BEGIN:VCALENDAR
VERSION:2.0
PRODID:-//CommunicatieNet Zeeland - ECPv6.15.20//NONSGML v1.0//EN
CALSCALE:GREGORIAN
METHOD:PUBLISH
X-ORIGINAL-URL:https://comnetz.nl
X-WR-CALDESC:Evenementen voor CommunicatieNet Zeeland
REFRESH-INTERVAL;VALUE=DURATION:PT1H
X-Robots-Tag:noindex
X-PUBLISHED-TTL:PT1H
BEGIN:VTIMEZONE
TZID:Europe/Amsterdam
BEGIN:DAYLIGHT
TZOFFSETFROM:+0100
TZOFFSETTO:+0200
TZNAME:CEST
DTSTART:20250330T010000
END:DAYLIGHT
BEGIN:STANDARD
TZOFFSETFROM:+0200
TZOFFSETTO:+0100
TZNAME:CET
DTSTART:20251026T010000
END:STANDARD
BEGIN:DAYLIGHT
TZOFFSETFROM:+0100
TZOFFSETTO:+0200
TZNAME:CEST
DTSTART:20260329T010000
END:DAYLIGHT
BEGIN:STANDARD
TZOFFSETFROM:+0200
TZOFFSETTO:+0100
TZNAME:CET
DTSTART:20261025T010000
END:STANDARD
BEGIN:DAYLIGHT
TZOFFSETFROM:+0100
TZOFFSETTO:+0200
TZNAME:CEST
DTSTART:20270328T010000
END:DAYLIGHT
BEGIN:STANDARD
TZOFFSETFROM:+0200
TZOFFSETTO:+0100
TZNAME:CET
DTSTART:20271031T010000
END:STANDARD
END:VTIMEZONE
BEGIN:VEVENT
DTSTART;TZID=Europe/Amsterdam:20260611T161500
DTEND;TZID=Europe/Amsterdam:20260611T193000
DTSTAMP:20260423T164011
CREATED:20260326T091354Z
LAST-MODIFIED:20260423T080519Z
UID:1450-1781194500-1781206200@comnetz.nl
SUMMARY:Bezoek aan Grenspark Groot Saeftinghe
DESCRIPTION:Donderdag 11 juni zijn we met ons netwerk te gast bij Grenspark Groot Saeftinghe. We krijgen tijdens ons bezoek onder andere meer te horen over hun omgevingscommunicatie en stakeholderparticipatie binnen dit dynamische grensgebied\, waar natuurontwikkeling\, haven en leefomgeving samenkomen. \nWe sluiten de middag gezellig af met een hapje en drankje op een sfeervolle locatie in de omgeving. \nProgramma \n\n16.15 – Ontvangst in Doel\n16.30 – Presentatie Grenspark Groot Saeftinghe / Cows & Stars met ruimte voor vragen\n17.30 – Reizen van Doel naar Hedwige-Prospergebied\n17.50 – Wandeling langs Hedwige-Prosper\n18.15 – Reizen van Hedwige-Prosper naar eetlocatie (locatie volgt nog)\n18.30 – Napraten met eten en een borrel\n\nHoud er rekening mee dat de locatie wat verder weg ligt dan gebruikelijk en plan daarom voldoende reistijd in. \nLocatie\nVlakbij de molen ligt de centrale parkeerplaats in Doel. Daar kan iedereen makkelijk parkeren. \nAanmelden\nKlik hier om je aan te melden. \nVoor ComNetZ leden is dit evenement gratis. Voor niet-leden en introducees is het € 25\,-. Lid worden? Klik dan hier.
URL:https://comnetz.nl/event/bezoek-aan-grenspark-groot-saeftinghe/
ATTACH;FMTTYPE=image/jpeg:https://comnetz.nl/wp-content/uploads/2026/03/2026-04.jpg
END:VEVENT
END:VCALENDAR